BEGIN:VCALENDAR
VERSION:2.0
PRODID:-//Lambertville Free Public Library - ECPv6.15.20//NONSGML v1.0//EN
CALSCALE:GREGORIAN
METHOD:PUBLISH
X-ORIGINAL-URL:https://lambertvillelibrary.org
X-WR-CALDESC:Events for Lambertville Free Public Library
REFRESH-INTERVAL;VALUE=DURATION:PT1H
X-Robots-Tag:noindex
X-PUBLISHED-TTL:PT1H
BEGIN:VTIMEZONE
TZID:UTC
BEGIN:STANDARD
TZOFFSETFROM:+0000
TZOFFSETTO:+0000
TZNAME:UTC
DTSTART:20230101T000000
END:STANDARD
END:VTIMEZONE
BEGIN:VEVENT
DTSTART;VALUE=DATE:20240217
DTEND;VALUE=DATE:20240330
DTSTAMP:20260421T134947
CREATED:20230322T173547Z
LAST-MODIFIED:20240320T184854Z
UID:8480-1708128000-1711756799@lambertvillelibrary.org
SUMMARY:Gallery Exhibit: Photography Group Show
DESCRIPTION:From February 17th to March 29th \nThree Viewpoints: 3 Photographers in Communication with Their Surroundings \nIn the Library Gallery
URL:https://lambertvillelibrary.org/event/photography-group-show
LOCATION:Lambertville Library Gallery
CATEGORIES:All Ages
ATTACH;FMTTYPE=image/png:https://lambertvillelibrary.org/wp-content/uploads/2024/03/Untitled-design-60.png
END:VEVENT
END:VCALENDAR