BEGIN:VCALENDAR
VERSION:2.0
PRODID:-//Lambertville Free Public Library - ECPv6.15.20//NONSGML v1.0//EN
CALSCALE:GREGORIAN
METHOD:PUBLISH
X-WR-CALNAME:Lambertville Free Public Library
X-ORIGINAL-URL:https://lambertvillelibrary.org
X-WR-CALDESC:Events for Lambertville Free Public Library
REFRESH-INTERVAL;VALUE=DURATION:PT1H
X-Robots-Tag:noindex
X-PUBLISHED-TTL:PT1H
BEGIN:VTIMEZONE
TZID:UTC
BEGIN:STANDARD
TZOFFSETFROM:+0000
TZOFFSETTO:+0000
TZNAME:UTC
DTSTART:20230101T000000
END:STANDARD
END:VTIMEZONE
BEGIN:VEVENT
DTSTART;VALUE=DATE:20240401
DTEND;VALUE=DATE:20240516
DTSTAMP:20260423T090008
CREATED:20230401T181309Z
LAST-MODIFIED:20240402T181704Z
UID:8704-1711929600-1715817599@lambertvillelibrary.org
SUMMARY:Gallery Exhibit: Carolyn S. Pio: an artist inspired by nature\, nestled in the woods of Central Pennsylvania
DESCRIPTION:Come see Carolyn S. Pio’s work from April 1st to May 15th in the Library Gallery! \nRead her full artist’s statement and biography here.
URL:https://lambertvillelibrary.org/event/gallery-exhibit-carolyn-s-pio-an-artist-inspired-by-nature-nestled-in-the-woods-of-central-pennsylvania
LOCATION:Lambertville Library Gallery
CATEGORIES:All Ages
ATTACH;FMTTYPE=image/png:https://lambertvillelibrary.org/wp-content/uploads/2021/05/New-Gallery-Ehibit-April-1-to-May-15-580-x-420-px.png
END:VEVENT
END:VCALENDAR