BEGIN:VCALENDAR
VERSION:2.0
PRODID:-//Lambertville Free Public Library - ECPv6.15.20//NONSGML v1.0//EN
CALSCALE:GREGORIAN
METHOD:PUBLISH
X-ORIGINAL-URL:https://lambertvillelibrary.org
X-WR-CALDESC:Events for Lambertville Free Public Library
REFRESH-INTERVAL;VALUE=DURATION:PT1H
X-Robots-Tag:noindex
X-PUBLISHED-TTL:PT1H
BEGIN:VTIMEZONE
TZID:UTC
BEGIN:STANDARD
TZOFFSETFROM:+0000
TZOFFSETTO:+0000
TZNAME:UTC
DTSTART:20230101T000000
END:STANDARD
END:VTIMEZONE
BEGIN:VEVENT
DTSTART;VALUE=DATE:20240619
DTEND;VALUE=DATE:20240822
DTSTAMP:20260423T091614
CREATED:20230619T162633Z
LAST-MODIFIED:20240618T190426Z
UID:8936-1718755200-1724284799@lambertvillelibrary.org
SUMMARY:All Ages Summer Reading: Adventure Begins at Your Library!
DESCRIPTION:Find all of the information about Summer Reading 2024 here!
URL:https://lambertvillelibrary.org/event/all-ages-summer-reading-adventure-begins-at-your-library
LOCATION:NJ
CATEGORIES:All Ages
END:VEVENT
BEGIN:VEVENT
DTSTART;TZID=UTC:20240625T103000
DTEND;TZID=UTC:20240625T110000
DTSTAMP:20260423T091614
CREATED:20230625T161916Z
LAST-MODIFIED:20240604T162512Z
UID:8927-1719311400-1719313200@lambertvillelibrary.org
SUMMARY:Storytime: Bouncy Book Time!
DESCRIPTION:Bouncy Book Time continues on Tuesday mornings at 10:30am in the Library Gallery. Join us for songs\, rhymes\, stories! All are welcome – best for ages 0-4.\n\nDate: Every Tuesday\nTime: 10:30 AM\nLocation: Library Gallery
URL:https://lambertvillelibrary.org/event/storytime-bouncy-book-time-44
LOCATION:Lambertville Library Gallery
CATEGORIES:Kids
ATTACH;FMTTYPE=image/png:https://lambertvillelibrary.org/wp-content/uploads/2023/09/Bouncy-Book-Time.png
END:VEVENT
END:VCALENDAR