BEGIN:VCALENDAR
VERSION:2.0
PRODID:-//Lambertville Free Public Library - ECPv6.15.20//NONSGML v1.0//EN
CALSCALE:GREGORIAN
METHOD:PUBLISH
X-ORIGINAL-URL:https://lambertvillelibrary.org
X-WR-CALDESC:Events for Lambertville Free Public Library
REFRESH-INTERVAL;VALUE=DURATION:PT1H
X-Robots-Tag:noindex
X-PUBLISHED-TTL:PT1H
BEGIN:VTIMEZONE
TZID:UTC
BEGIN:STANDARD
TZOFFSETFROM:+0000
TZOFFSETTO:+0000
TZNAME:UTC
DTSTART:20230101T000000
END:STANDARD
END:VTIMEZONE
BEGIN:VEVENT
DTSTART;VALUE=DATE:20240619
DTEND;VALUE=DATE:20240822
DTSTAMP:20260421T121711
CREATED:20230619T162633Z
LAST-MODIFIED:20240618T190426Z
UID:8936-1718755200-1724284799@lambertvillelibrary.org
SUMMARY:All Ages Summer Reading: Adventure Begins at Your Library!
DESCRIPTION:Find all of the information about Summer Reading 2024 here!
URL:https://lambertvillelibrary.org/event/all-ages-summer-reading-adventure-begins-at-your-library
LOCATION:NJ
CATEGORIES:All Ages
END:VEVENT
BEGIN:VEVENT
DTSTART;TZID=UTC:20240713T103000
DTEND;TZID=UTC:20240713T111500
DTSTAMP:20260421T121711
CREATED:20230713T163122Z
LAST-MODIFIED:20240624T165530Z
UID:8942-1720866600-1720869300@lambertvillelibrary.org
SUMMARY:Birdhouse Center Summer Music at the Library!
DESCRIPTION:Interactive Summer music for families. \nSaturdays in July @ 10:30-11:15 (July 6\, 13\, 20\, and 27) \nJoin the Birdhouse Center for the Arts on the Lambertville Library Lawn for music and fun! Sing\, Play\, Dance and Learn. \nNurture curiosity and spark a life-long appreciation for music! “It’s Never to early to introduce the joys of music!” Bond. Nurture. Explore. Music. Join us for fun outdoor music sessions that are tailored for the whole family. Enjoy dancing\, singing and learning with Bronwyn and Justin of the Birdhouse Center for the Arts! \n(Class will shift indoors with the onset of inclement weather)
URL:https://lambertvillelibrary.org/event/birdhouse-center-summer-music-at-the-library-2
LOCATION:Lambertville Library Lawn\, 6 Lilly Street\, Lambertville\, NJ\, 08530\, United States
CATEGORIES:Kids
ATTACH;FMTTYPE=image/png:https://lambertvillelibrary.org/wp-content/uploads/2023/07/Birdhouse-Center-Summer-Music-at-the-Library.png
END:VEVENT
BEGIN:VEVENT
DTSTART;TZID=UTC:20240720T103000
DTEND;TZID=UTC:20240720T111500
DTSTAMP:20260421T121711
CREATED:20230720T163129Z
LAST-MODIFIED:20240624T165621Z
UID:8943-1721471400-1721474100@lambertvillelibrary.org
SUMMARY:Birdhouse Center Summer Music at the Library!
DESCRIPTION:Interactive Summer music for families. \nSaturdays in July @ 10:30-11:15 (July 6\, 13\, 20\, and 27) \nJoin the Birdhouse Center for the Arts on the Lambertville Library Lawn for music and fun! Sing\, Play\, Dance and Learn. \nNurture curiosity and spark a life-long appreciation for music! “It’s Never to early to introduce the joys of music!” Bond. Nurture. Explore. Music. Join us for fun outdoor music sessions that are tailored for the whole family. Enjoy dancing\, singing and learning with Bronwyn and Justin of the Birdhouse Center for the Arts! \n(Class will shift indoors with the onset of inclement weather)
URL:https://lambertvillelibrary.org/event/birdhouse-center-summer-music-at-the-library-3
LOCATION:Lambertville Library Lawn\, 6 Lilly Street\, Lambertville\, NJ\, 08530\, United States
CATEGORIES:Kids
ATTACH;FMTTYPE=image/png:https://lambertvillelibrary.org/wp-content/uploads/2023/07/Birdhouse-Center-Summer-Music-at-the-Library.png
END:VEVENT
BEGIN:VEVENT
DTSTART;TZID=UTC:20240727T103000
DTEND;TZID=UTC:20240727T111500
DTSTAMP:20260421T121711
CREATED:20230727T163137Z
LAST-MODIFIED:20240624T165543Z
UID:8944-1722076200-1722078900@lambertvillelibrary.org
SUMMARY:Birdhouse Center Summer Music at the Library!
DESCRIPTION:Interactive Summer music for families. \nSaturdays in July @ 10:30-11:15 (July 6\, 13\, 20\, and 27) \nJoin the Birdhouse Center for the Arts on the Lambertville Library Lawn for music and fun! Sing\, Play\, Dance and Learn. \nNurture curiosity and spark a life-long appreciation for music! “It’s Never to early to introduce the joys of music!” Bond. Nurture. Explore. Music. Join us for fun outdoor music sessions that are tailored for the whole family. Enjoy dancing\, singing and learning with Bronwyn and Justin of the Birdhouse Center for the Arts! \n(Class will shift indoors with the onset of inclement weather)
URL:https://lambertvillelibrary.org/event/birdhouse-center-summer-music-at-the-library-4
LOCATION:Lambertville Library Lawn\, 6 Lilly Street\, Lambertville\, NJ\, 08530\, United States
CATEGORIES:Kids
ATTACH;FMTTYPE=image/png:https://lambertvillelibrary.org/wp-content/uploads/2023/07/Birdhouse-Center-Summer-Music-at-the-Library.png
END:VEVENT
END:VCALENDAR