BEGIN:VCALENDAR
VERSION:2.0
PRODID:-//Lambertville Free Public Library - ECPv6.15.20//NONSGML v1.0//EN
CALSCALE:GREGORIAN
METHOD:PUBLISH
X-WR-CALNAME:Lambertville Free Public Library
X-ORIGINAL-URL:https://lambertvillelibrary.org
X-WR-CALDESC:Events for Lambertville Free Public Library
REFRESH-INTERVAL;VALUE=DURATION:PT1H
X-Robots-Tag:noindex
X-PUBLISHED-TTL:PT1H
BEGIN:VTIMEZONE
TZID:UTC
BEGIN:STANDARD
TZOFFSETFROM:+0000
TZOFFSETTO:+0000
TZNAME:UTC
DTSTART:20220101T000000
END:STANDARD
END:VTIMEZONE
BEGIN:VEVENT
DTSTART;VALUE=DATE:20231213
DTEND;VALUE=DATE:20240201
DTSTAMP:20260423T091420
CREATED:20230119T215218Z
LAST-MODIFIED:20240219T180942Z
UID:8175-1702425600-1706745599@lambertvillelibrary.org
SUMMARY:Lambertville Library Winter Village
DESCRIPTION:Take a house template from the front desk\, decorate it\, and bring it back to add to our Winter Village! You can see this little town on top of the Adult Fiction bookshelves.
URL:https://lambertvillelibrary.org/event/lambertville-library-winter-village
LOCATION:NJ
CATEGORIES:All Ages
ATTACH;FMTTYPE=image/png:https://lambertvillelibrary.org/wp-content/uploads/2023/12/Add-a-heading-4.png
END:VEVENT
BEGIN:VEVENT
DTSTART;TZID=UTC:20240102T103000
DTEND;TZID=UTC:20240102T110000
DTSTAMP:20260423T091420
CREATED:20230102T185519Z
LAST-MODIFIED:20231219T192858Z
UID:8039-1704191400-1704193200@lambertvillelibrary.org
SUMMARY:Cancelled: Bouncy Book Time Jan. 2
DESCRIPTION:
URL:https://lambertvillelibrary.org/event/cancelled-bouncy-book-time-5
LOCATION:Lambertville Library Gallery
CATEGORIES:Kids
ATTACH;FMTTYPE=image/png:https://lambertvillelibrary.org/wp-content/uploads/2023/09/Bouncy-Book-Time.png
END:VEVENT
BEGIN:VEVENT
DTSTART;TZID=UTC:20240102T190000
DTEND;TZID=UTC:20240102T203000
DTSTAMP:20260423T091420
CREATED:20230102T205504Z
LAST-MODIFIED:20231219T192752Z
UID:8132-1704222000-1704227400@lambertvillelibrary.org
SUMMARY:Literati Library Book Club: Convenience Store Woman by Sayaka Murata
DESCRIPTION:This month\, Library Literati book club will be discussing Convenience Store Woman by Sayaka Murata. \nTo sign-up email staff@lambertvillelibrary.org or call 609-397-0275 \n\n\nDate 01/02/2024 (Tue.)\n\n\n\n\nTime 7:00PM – 8:30PM EDT\n\n\nLocation Gallery
URL:https://lambertvillelibrary.org/event/convenience-store-woman-literati
LOCATION:Lambertville Library Gallery
CATEGORIES:Adults
ATTACH;FMTTYPE=image/png:https://lambertvillelibrary.org/wp-content/uploads/2023/12/literati-convenience-store.png
END:VEVENT
BEGIN:VEVENT
DTSTART;VALUE=DATE:20240104
DTEND;VALUE=DATE:20240216
DTSTAMP:20260423T091420
CREATED:20230104T210441Z
LAST-MODIFIED:20231220T211115Z
UID:8198-1704326400-1708041599@lambertvillelibrary.org
SUMMARY:Gallery Exhibit: "Threads of Nature: Mixed Media Works" Art Exhibit Highlights Connections to Nature - Colleen Miller
DESCRIPTION:Lambertville artist Colleen Miller is pleased to announce her upcoming art exhibit\, “Threads of Nature: Mixed Media Works\,” at the Lambertville Public Library showcasing a captivating collection of diverse artworks that explore the intersection of nature and creativity. \nThis exhibit of Colleen Miller’s artwork features various pieces that show how the artist finds connections to nature. “Threads of Nature” reflects the beauty\, complexity\, and interconnectedness of the natural world. \n“My mixed media art represents a visual language that reflects life\, nature and movement and seeks to bring joy to the viewer. Like a double-sided coin\, I explore realistic painting as well as intuitive painting methods and fabric-paper collages\,” Miller said. \nVisitors can expect to encounter a range of artistic techniques\, including painting on canvas and wood\, as well as collage including vintage items\, fabric\, threads and ephemera. \nExhibit Dates: January 4\, 2024 – February 15\, 2024 \nOpening Reception: Thursday\, January 4 from 6:30 pm – 8:30 pm \nThe opening reception on Thursday\, January 4 -6:30 pm – 8:30 pm will provide an opportunity for attendees to meet the artist and engage in discussions about art.
URL:https://lambertvillelibrary.org/event/gallery-exhibit-threads-of-nature-mixed-media-works-art-exhibit-highlights-connections-to-nature-colleen-miller
LOCATION:Lambertville Library Gallery
ATTACH;FMTTYPE=image/png:https://lambertvillelibrary.org/wp-content/uploads/2023/12/colleen-miller-gallery.png
END:VEVENT
BEGIN:VEVENT
DTSTART;TZID=UTC:20240104T183000
DTEND;TZID=UTC:20240104T203000
DTSTAMP:20260423T091420
CREATED:20231220T211232Z
LAST-MODIFIED:20231220T211232Z
UID:8201-1704393000-1704400200@lambertvillelibrary.org
SUMMARY:Opening Reception: "Threads of Nature: Mixed Media Works" Art Exhibit Highlights Connections to Nature - Colleen Miller
DESCRIPTION:Lambertville artist Colleen Miller is pleased to announce her upcoming art exhibit\, “Threads of Nature: Mixed Media Works\,” at the Lambertville Public Library showcasing a captivating collection of diverse artworks that explore the intersection of nature and creativity. \nThis exhibit of Colleen Miller’s artwork features various pieces that show how the artist finds connections to nature. “Threads of Nature” reflects the beauty\, complexity\, and interconnectedness of the natural world. \n“My mixed media art represents a visual language that reflects life\, nature and movement and seeks to bring joy to the viewer. Like a double-sided coin\, I explore realistic painting as well as intuitive painting methods and fabric-paper collages\,” Miller said. \nVisitors can expect to encounter a range of artistic techniques\, including painting on canvas and wood\, as well as collage including vintage items\, fabric\, threads and ephemera. \nExhibit Dates: January 4\, 2024 – February 15\, 2024 \nOpening Reception: Thursday\, January 4 from 6:30 pm – 8:30 pm \nThe opening reception on Thursday\, January 4 -6:30 pm – 8:30 pm will provide an opportunity for attendees to meet the artist and engage in discussions about art.
URL:https://lambertvillelibrary.org/event/opening-reception-threads-of-nature-mixed-media-works-art-exhibit-highlights-connections-to-nature-colleen-miller
LOCATION:Lambertville Library Gallery
CATEGORIES:Adults
ATTACH;FMTTYPE=image/png:https://lambertvillelibrary.org/wp-content/uploads/2023/12/colleen-miller-gallery.png
END:VEVENT
BEGIN:VEVENT
DTSTART;TZID=UTC:20240109T103000
DTEND;TZID=UTC:20240109T110000
DTSTAMP:20260423T091420
CREATED:20230109T204801Z
LAST-MODIFIED:20231220T204814Z
UID:8190-1704796200-1704798000@lambertvillelibrary.org
SUMMARY:Storytime: Bouncy Book Time!
DESCRIPTION:Bouncy Book Time continues on Tuesday mornings at 10:30am in the Library Gallery. Join us for songs\, rhymes\, stories!\n\nDate: Every Tuesday\nTime: 10:30 AM\nLocation: Library Gallery
URL:https://lambertvillelibrary.org/event/storytime-bouncy-book-time-23
LOCATION:Lambertville Library Gallery
CATEGORIES:Kids
ATTACH;FMTTYPE=image/png:https://lambertvillelibrary.org/wp-content/uploads/2023/09/Bouncy-Book-Time.png
END:VEVENT
BEGIN:VEVENT
DTSTART;TZID=UTC:20240118T103000
DTEND;TZID=UTC:20240118T113000
DTSTAMP:20260423T091420
CREATED:20230118T205115Z
LAST-MODIFIED:20231220T205129Z
UID:8196-1705573800-1705577400@lambertvillelibrary.org
SUMMARY:Community Sponsored Event: CCYC's "Get Up and Move!"
DESCRIPTION:Join the County Councils for Young Children for “Get Up and Move!” a music and movement class for young children. \nTime: 10:30-11:30 \nDate: Thursday\, January 18th \nLocation: Library Gallery
URL:https://lambertvillelibrary.org/event/community-sponsored-event-ccycs-get-up-and-move
LOCATION:Lambertville Library Gallery
CATEGORIES:Kids
ATTACH;FMTTYPE=image/png:https://lambertvillelibrary.org/wp-content/uploads/2023/05/For-your-purchasing-at-our-store-I-hope-you-are-satisfied-with-our-products.png
END:VEVENT
BEGIN:VEVENT
DTSTART;TZID=UTC:20240123T103000
DTEND;TZID=UTC:20240123T110000
DTSTAMP:20260423T091420
CREATED:20230123T204828Z
LAST-MODIFIED:20231220T204851Z
UID:8192-1706005800-1706007600@lambertvillelibrary.org
SUMMARY:Storytime: Bouncy Book Time!
DESCRIPTION:Bouncy Book Time continues on Tuesday mornings at 10:30am in the Library Gallery. Join us for songs\, rhymes\, stories!\n\nDate: Every Tuesday\nTime: 10:30 AM\nLocation: Library Gallery
URL:https://lambertvillelibrary.org/event/storytime-bouncy-book-time-24
LOCATION:Lambertville Library Gallery
CATEGORIES:Kids
ATTACH;FMTTYPE=image/png:https://lambertvillelibrary.org/wp-content/uploads/2023/09/Bouncy-Book-Time.png
END:VEVENT
BEGIN:VEVENT
DTSTART;TZID=UTC:20240129T163000
DTEND;TZID=UTC:20240129T171500
DTSTAMP:20260423T091420
CREATED:20230129T200335Z
LAST-MODIFIED:20240117T201539Z
UID:8277-1706545800-1706548500@lambertvillelibrary.org
SUMMARY:LEGO Club
DESCRIPTION:Come by every other Monday from 4:30 to 5:15 for a fun drop-in LEGO building session! Free build or take part in the theme or challenge of the week. \nRecommended ages 5 and up. No registration required.
URL:https://lambertvillelibrary.org/event/lego-club-5
LOCATION:Lambertville Library Gallery
CATEGORIES:Kids
ATTACH;FMTTYPE=image/png:https://lambertvillelibrary.org/wp-content/uploads/2024/01/LEGO-CLUB-1.png
END:VEVENT
BEGIN:VEVENT
DTSTART;TZID=UTC:20240130T103000
DTEND;TZID=UTC:20240130T110000
DTSTAMP:20260423T091420
CREATED:20230130T204905Z
LAST-MODIFIED:20231220T204916Z
UID:8194-1706610600-1706612400@lambertvillelibrary.org
SUMMARY:Storytime: Bouncy Book Time!
DESCRIPTION:Bouncy Book Time continues on Tuesday mornings at 10:30am in the Library Gallery. Join us for songs\, rhymes\, stories!\n\nDate: Every Tuesday\nTime: 10:30 AM\nLocation: Library Gallery
URL:https://lambertvillelibrary.org/event/storytime-bouncy-book-time-25
LOCATION:Lambertville Library Gallery
CATEGORIES:Kids
ATTACH;FMTTYPE=image/png:https://lambertvillelibrary.org/wp-content/uploads/2023/09/Bouncy-Book-Time.png
END:VEVENT
END:VCALENDAR