BEGIN:VCALENDAR
VERSION:2.0
PRODID:-//Lambertville Free Public Library - ECPv6.15.20//NONSGML v1.0//EN
CALSCALE:GREGORIAN
METHOD:PUBLISH
X-WR-CALNAME:Lambertville Free Public Library
X-ORIGINAL-URL:https://lambertvillelibrary.org
X-WR-CALDESC:Events for Lambertville Free Public Library
REFRESH-INTERVAL;VALUE=DURATION:PT1H
X-Robots-Tag:noindex
X-PUBLISHED-TTL:PT1H
BEGIN:VTIMEZONE
TZID:UTC
BEGIN:STANDARD
TZOFFSETFROM:+0000
TZOFFSETTO:+0000
TZNAME:UTC
DTSTART:20230101T000000
END:STANDARD
END:VTIMEZONE
BEGIN:VEVENT
DTSTART;TZID=UTC:20240506T163000
DTEND;TZID=UTC:20240506T171500
DTSTAMP:20260423T090917
CREATED:20230506T182432Z
LAST-MODIFIED:20240122T182726Z
UID:8320-1715013000-1715015700@lambertvillelibrary.org
SUMMARY:LEGO Club
DESCRIPTION:Come by every other Monday from 4:30 to 5:15 for a fun drop-in LEGO building session! Free build or take part in the theme or challenge of the week. \nRecommended ages 5 and up. No registration required.
URL:https://lambertvillelibrary.org/event/lego-club-13
LOCATION:Lambertville Library Gallery
CATEGORIES:Kids
ATTACH;FMTTYPE=image/png:https://lambertvillelibrary.org/wp-content/uploads/2024/01/LEGO-CLUB-1.png
END:VEVENT
END:VCALENDAR